BEGIN:VCALENDAR
VERSION:2.0
PRODID:-//Vibrant Forest Brewery - ECPv6.15.17//NONSGML v1.0//EN
CALSCALE:GREGORIAN
METHOD:PUBLISH
X-ORIGINAL-URL:https://staging.vibrantforest.co.uk
X-WR-CALDESC:Events for Vibrant Forest Brewery
REFRESH-INTERVAL;VALUE=DURATION:PT1H
X-Robots-Tag:noindex
X-PUBLISHED-TTL:PT1H
BEGIN:VTIMEZONE
TZID:Europe/London
BEGIN:DAYLIGHT
TZOFFSETFROM:+0000
TZOFFSETTO:+0100
TZNAME:BST
DTSTART:20250330T010000
END:DAYLIGHT
BEGIN:STANDARD
TZOFFSETFROM:+0100
TZOFFSETTO:+0000
TZNAME:GMT
DTSTART:20251026T010000
END:STANDARD
BEGIN:DAYLIGHT
TZOFFSETFROM:+0000
TZOFFSETTO:+0100
TZNAME:BST
DTSTART:20260329T010000
END:DAYLIGHT
BEGIN:STANDARD
TZOFFSETFROM:+0100
TZOFFSETTO:+0000
TZNAME:GMT
DTSTART:20261025T010000
END:STANDARD
BEGIN:DAYLIGHT
TZOFFSETFROM:+0000
TZOFFSETTO:+0100
TZNAME:BST
DTSTART:20270328T010000
END:DAYLIGHT
BEGIN:STANDARD
TZOFFSETFROM:+0100
TZOFFSETTO:+0000
TZNAME:GMT
DTSTART:20271031T010000
END:STANDARD
END:VTIMEZONE
BEGIN:VEVENT
DTSTART;TZID=Europe/London:20260326T160000
DTEND;TZID=Europe/London:20260326T200000
DTSTAMP:20260420T070354
CREATED:20260213T110746Z
LAST-MODIFIED:20260213T110746Z
UID:10000228-1774540800-1774555200@staging.vibrantforest.co.uk
SUMMARY:Vibrant Forest Pizza
DESCRIPTION:Our Vibrant Forest pizza van is serving up freshly made\, stone-baked pizzas at the Vibrant Forest Taproom—available to eat in or take away!\nWhether you’re here for a pint of your favorite brew or grabbing beers to go\, our delicious pizzas are the perfect pairing.\nExpect fresh\, hand-stretched bases\, quality toppings\, and plenty of flavor—all made to order while you enjoy a drink.\nCome hungry\, leave happy! 🍕✨
URL:https://staging.vibrantforest.co.uk/event/vibrant-forest-pizza-61/
LOCATION:Vibrant Forest Taproom\, Units 3 to 6 The Purlieu Centre\, SO45 3AE
CATEGORIES:Street Food
ATTACH;FMTTYPE=image/jpeg:https://staging.vibrantforest.co.uk/wp-content/uploads/2025/03/Pizza.jpg
END:VEVENT
BEGIN:VEVENT
DTSTART;TZID=Europe/London:20260327T150000
DTEND;TZID=Europe/London:20260327T200000
DTSTAMP:20260420T070354
CREATED:20260213T110759Z
LAST-MODIFIED:20260213T110759Z
UID:10000229-1774623600-1774641600@staging.vibrantforest.co.uk
SUMMARY:Vibrant Forest Pizza
DESCRIPTION:Our Vibrant Forest pizza van is serving up freshly made\, stone-baked pizzas at the Vibrant Forest Taproom—available to eat in or take away!\nWhether you’re here for a pint of your favorite brew or grabbing beers to go\, our delicious pizzas are the perfect pairing.\nExpect fresh\, hand-stretched bases\, quality toppings\, and plenty of flavor—all made to order while you enjoy a drink.\nCome hungry\, leave happy! 🍕✨
URL:https://staging.vibrantforest.co.uk/event/vibrant-forest-pizza-62/
LOCATION:Vibrant Forest Taproom\, Units 3 to 6 The Purlieu Centre\, SO45 3AE
CATEGORIES:Street Food
ATTACH;FMTTYPE=image/jpeg:https://staging.vibrantforest.co.uk/wp-content/uploads/2025/03/Pizza.jpg
END:VEVENT
BEGIN:VEVENT
DTSTART;TZID=Europe/London:20260328T120000
DTEND;TZID=Europe/London:20260328T170000
DTSTAMP:20260420T070354
CREATED:20260216T101352Z
LAST-MODIFIED:20260216T101352Z
UID:10000237-1774699200-1774717200@staging.vibrantforest.co.uk
SUMMARY:Three Cuts Burgers
DESCRIPTION:The legends are back with their mouth-watering smash burgers\, crispy chicken tenders\, and loaded fries that everyone loves!\nKnown for their commitment to quality\, These guys have earned their place as one of the most sought-after food trucks on the South Coast.
URL:https://staging.vibrantforest.co.uk/event/three-cuts-burgers-3/
LOCATION:Vibrant Forest Taproom\, Units 3 to 6 The Purlieu Centre\, SO45 3AE
CATEGORIES:Street Food
ATTACH;FMTTYPE=image/jpeg:https://staging.vibrantforest.co.uk/wp-content/uploads/2025/03/three_cuts.jpg
END:VEVENT
END:VCALENDAR