BEGIN:VCALENDAR
VERSION:2.0
PRODID:-//Vibrant Forest Brewery - ECPv6.15.17//NONSGML v1.0//EN
CALSCALE:GREGORIAN
METHOD:PUBLISH
X-ORIGINAL-URL:https://staging.vibrantforest.co.uk
X-WR-CALDESC:Events for Vibrant Forest Brewery
REFRESH-INTERVAL;VALUE=DURATION:PT1H
X-Robots-Tag:noindex
X-PUBLISHED-TTL:PT1H
BEGIN:VTIMEZONE
TZID:Europe/London
BEGIN:DAYLIGHT
TZOFFSETFROM:+0000
TZOFFSETTO:+0100
TZNAME:BST
DTSTART:20240331T010000
END:DAYLIGHT
BEGIN:STANDARD
TZOFFSETFROM:+0100
TZOFFSETTO:+0000
TZNAME:GMT
DTSTART:20241027T010000
END:STANDARD
BEGIN:DAYLIGHT
TZOFFSETFROM:+0000
TZOFFSETTO:+0100
TZNAME:BST
DTSTART:20250330T010000
END:DAYLIGHT
BEGIN:STANDARD
TZOFFSETFROM:+0100
TZOFFSETTO:+0000
TZNAME:GMT
DTSTART:20251026T010000
END:STANDARD
BEGIN:DAYLIGHT
TZOFFSETFROM:+0000
TZOFFSETTO:+0100
TZNAME:BST
DTSTART:20260329T010000
END:DAYLIGHT
BEGIN:STANDARD
TZOFFSETFROM:+0100
TZOFFSETTO:+0000
TZNAME:GMT
DTSTART:20261025T010000
END:STANDARD
END:VTIMEZONE
BEGIN:VEVENT
DTSTART;TZID=Europe/London:20251204T160000
DTEND;TZID=Europe/London:20251204T200000
DTSTAMP:20260420T035316
CREATED:20250916T065849Z
LAST-MODIFIED:20250916T065849Z
UID:10000145-1764864000-1764878400@staging.vibrantforest.co.uk
SUMMARY:Vibrant Forest Pizza
DESCRIPTION:Our Vibrant Forest pizza van is serving up freshly made\, stone-baked pizzas at the Vibrant Forest Taproom—available to eat in or take away!\nWhether you’re here for a pint of your favorite brew or grabbing beers to go\, our delicious pizzas are the perfect pairing.\nExpect fresh\, hand-stretched bases\, quality toppings\, and plenty of flavor—all made to order while you enjoy a drink.\nCome hungry\, leave happy! 🍕✨
URL:https://staging.vibrantforest.co.uk/event/vibrant-forest-pizza-29/
LOCATION:Vibrant Forest Taproom\, Units 3 to 6 The Purlieu Centre\, SO45 3AE
CATEGORIES:Street Food
ATTACH;FMTTYPE=image/jpeg:https://staging.vibrantforest.co.uk/wp-content/uploads/2025/03/Pizza.jpg
END:VEVENT
BEGIN:VEVENT
DTSTART;TZID=Europe/London:20251206T120000
DTEND;TZID=Europe/London:20251206T180000
DTSTAMP:20260420T035316
CREATED:20250916T070002Z
LAST-MODIFIED:20251028T143609Z
UID:10000147-1765022400-1765044000@staging.vibrantforest.co.uk
SUMMARY:Three Cuts Burgers
DESCRIPTION:The legends are back with their mouth-watering smash burgers\, crispy chicken tenders\, and loaded fries that everyone loves!\nKnown for their commitment to quality\, These guys have earned their place as one of the most sought-after food trucks on the South Coast.
URL:https://staging.vibrantforest.co.uk/event/three-cuts-bugers-4/
LOCATION:Vibrant Forest Taproom\, Units 3 to 6 The Purlieu Centre\, SO45 3AE
CATEGORIES:Street Food
ATTACH;FMTTYPE=image/jpeg:https://staging.vibrantforest.co.uk/wp-content/uploads/2025/03/three_cuts.jpg
END:VEVENT
BEGIN:VEVENT
DTSTART;TZID=Europe/London:20251211T160000
DTEND;TZID=Europe/London:20251211T200000
DTSTAMP:20260420T035316
CREATED:20250918T065811Z
LAST-MODIFIED:20250918T065811Z
UID:10000157-1765468800-1765483200@staging.vibrantforest.co.uk
SUMMARY:Vibrant Forest Pizza
DESCRIPTION:Our Vibrant Forest pizza van is serving up freshly made\, stone-baked pizzas at the Vibrant Forest Taproom—available to eat in or take away!\nWhether you’re here for a pint of your favorite brew or grabbing beers to go\, our delicious pizzas are the perfect pairing.\nExpect fresh\, hand-stretched bases\, quality toppings\, and plenty of flavor—all made to order while you enjoy a drink.\nCome hungry\, leave happy! 🍕✨
URL:https://staging.vibrantforest.co.uk/event/vibrant-forest-pizza-30/
LOCATION:Vibrant Forest Taproom\, Units 3 to 6 The Purlieu Centre\, SO45 3AE
CATEGORIES:Street Food
ATTACH;FMTTYPE=image/jpeg:https://staging.vibrantforest.co.uk/wp-content/uploads/2025/03/Pizza.jpg
END:VEVENT
BEGIN:VEVENT
DTSTART;TZID=Europe/London:20251212T160000
DTEND;TZID=Europe/London:20251212T200000
DTSTAMP:20260420T035316
CREATED:20251209T153708Z
LAST-MODIFIED:20251209T153708Z
UID:10000199-1765555200-1765569600@staging.vibrantforest.co.uk
SUMMARY:Vibrant Forest Pizza
DESCRIPTION:Our Vibrant Forest pizza van is serving up freshly made\, stone-baked pizzas at the Vibrant Forest Taproom—available to eat in or take away!\nWhether you’re here for a pint of your favorite brew or grabbing beers to go\, our delicious pizzas are the perfect pairing.\nExpect fresh\, hand-stretched bases\, quality toppings\, and plenty of flavor—all made to order while you enjoy a drink.\nCome hungry\, leave happy! 🍕✨
URL:https://staging.vibrantforest.co.uk/event/vibrant-forest-pizza-45/
LOCATION:Vibrant Forest Taproom\, Units 3 to 6 The Purlieu Centre\, SO45 3AE
CATEGORIES:Street Food
ATTACH;FMTTYPE=image/jpeg:https://staging.vibrantforest.co.uk/wp-content/uploads/2025/03/Pizza.jpg
END:VEVENT
BEGIN:VEVENT
DTSTART;TZID=Europe/London:20251213T120000
DTEND;TZID=Europe/London:20251213T180000
DTSTAMP:20260420T035316
CREATED:20250925T110335Z
LAST-MODIFIED:20250925T110335Z
UID:10000168-1765627200-1765648800@staging.vibrantforest.co.uk
SUMMARY:Hulk Smoked and Hog
DESCRIPTION:Hulks Smoked Beef and Hog specialise in low & slow smoked meats and street food. inspired by the amazing Texas and Memphis smokehouse. From their famous 12 hour smoked briskets to our mouth-watering sumptuous smoked ribs every item on their menu is made with the highest quality ingredients and a lot of love.
URL:https://staging.vibrantforest.co.uk/event/hulk-smoked-and-hog/
LOCATION:Vibrant Forest Taproom\, Units 3 to 6 The Purlieu Centre\, SO45 3AE
CATEGORIES:Street Food
ATTACH;FMTTYPE=image/jpeg:https://staging.vibrantforest.co.uk/wp-content/uploads/2025/09/hulks.jpg
END:VEVENT
BEGIN:VEVENT
DTSTART;TZID=Europe/London:20251218T170000
DTEND;TZID=Europe/London:20251218T200000
DTSTAMP:20260420T035316
CREATED:20250916T071017Z
LAST-MODIFIED:20251028T143604Z
UID:10000150-1766077200-1766088000@staging.vibrantforest.co.uk
SUMMARY:Three Cuts Burgers
DESCRIPTION:The legends are back with their mouth-watering smash burgers\, crispy chicken tenders\, and loaded fries that everyone loves!\nKnown for their commitment to quality\, These guys have earned their place as one of the most sought-after food trucks on the South Coast.
URL:https://staging.vibrantforest.co.uk/event/three-cuts-bugers-5/
LOCATION:Vibrant Forest Taproom\, Units 3 to 6 The Purlieu Centre\, SO45 3AE
CATEGORIES:Street Food
ATTACH;FMTTYPE=image/jpeg:https://staging.vibrantforest.co.uk/wp-content/uploads/2025/03/three_cuts.jpg
END:VEVENT
BEGIN:VEVENT
DTSTART;TZID=Europe/London:20251219T160000
DTEND;TZID=Europe/London:20251219T200000
DTSTAMP:20260420T035316
CREATED:20250916T091641Z
LAST-MODIFIED:20251028T143559Z
UID:10000155-1766160000-1766174400@staging.vibrantforest.co.uk
SUMMARY:Three Cuts Burgers
DESCRIPTION:The legends are back with their mouth-watering smash burgers\, crispy chicken tenders\, and loaded fries that everyone loves!\nKnown for their commitment to quality\, These guys have earned their place as one of the most sought-after food trucks on the South Coast.
URL:https://staging.vibrantforest.co.uk/event/three-cuts-bugers-7/
LOCATION:Vibrant Forest Taproom\, Units 3 to 6 The Purlieu Centre\, SO45 3AE
CATEGORIES:Street Food
ATTACH;FMTTYPE=image/jpeg:https://staging.vibrantforest.co.uk/wp-content/uploads/2025/03/three_cuts.jpg
END:VEVENT
BEGIN:VEVENT
DTSTART;TZID=Europe/London:20251220T120000
DTEND;TZID=Europe/London:20251220T200000
DTSTAMP:20260420T035316
CREATED:20251209T084654Z
LAST-MODIFIED:20251209T084654Z
UID:10000198-1766232000-1766260800@staging.vibrantforest.co.uk
SUMMARY:Three Cuts Burgers
DESCRIPTION:The legends are back with their mouth-watering smash burgers\, crispy chicken tenders\, and loaded fries that everyone loves!\nKnown for their commitment to quality\, These guys have earned their place as one of the most sought-after food trucks on the South Coast.
URL:https://staging.vibrantforest.co.uk/event/three-cuts-burgers/
LOCATION:Vibrant Forest Taproom\, Units 3 to 6 The Purlieu Centre\, SO45 3AE
CATEGORIES:Street Food
ATTACH;FMTTYPE=image/jpeg:https://staging.vibrantforest.co.uk/wp-content/uploads/2025/03/three_cuts.jpg
END:VEVENT
BEGIN:VEVENT
DTSTART;TZID=Europe/London:20251221T120000
DTEND;TZID=Europe/London:20251221T180000
DTSTAMP:20260420T035316
CREATED:20250918T070024Z
LAST-MODIFIED:20250918T070024Z
UID:10000159-1766318400-1766340000@staging.vibrantforest.co.uk
SUMMARY:Vibrant Forest Pizza
DESCRIPTION:Our Vibrant Forest pizza van is serving up freshly made\, stone-baked pizzas at the Vibrant Forest Taproom—available to eat in or take away!\nWhether you’re here for a pint of your favorite brew or grabbing beers to go\, our delicious pizzas are the perfect pairing.\nExpect fresh\, hand-stretched bases\, quality toppings\, and plenty of flavor—all made to order while you enjoy a drink.\nCome hungry\, leave happy! 🍕✨
URL:https://staging.vibrantforest.co.uk/event/vibrant-forest-pizza-31/
LOCATION:Vibrant Forest Taproom\, Units 3 to 6 The Purlieu Centre\, SO45 3AE
CATEGORIES:Street Food
ATTACH;FMTTYPE=image/jpeg:https://staging.vibrantforest.co.uk/wp-content/uploads/2025/03/Pizza.jpg
END:VEVENT
BEGIN:VEVENT
DTSTART;TZID=Europe/London:20251224T120000
DTEND;TZID=Europe/London:20251224T200000
DTSTAMP:20260420T035316
CREATED:20251216T124108Z
LAST-MODIFIED:20251216T124108Z
UID:10000200-1766577600-1766606400@staging.vibrantforest.co.uk
SUMMARY:Vibrant Forest Pizza
DESCRIPTION:Our Vibrant Forest pizza van is serving up freshly made\, stone-baked pizzas at the Vibrant Forest Taproom—available to eat in or take away!\nWhether you’re here for a pint of your favorite brew or grabbing beers to go\, our delicious pizzas are the perfect pairing.\nExpect fresh\, hand-stretched bases\, quality toppings\, and plenty of flavor—all made to order while you enjoy a drink.\nCome hungry\, leave happy! 🍕✨
URL:https://staging.vibrantforest.co.uk/event/vibrant-forest-pizza-46/
LOCATION:Vibrant Forest Taproom\, Units 3 to 6 The Purlieu Centre\, SO45 3AE
CATEGORIES:Street Food
ATTACH;FMTTYPE=image/jpeg:https://staging.vibrantforest.co.uk/wp-content/uploads/2025/03/Pizza.jpg
END:VEVENT
BEGIN:VEVENT
DTSTART;TZID=Europe/London:20251227T120000
DTEND;TZID=Europe/London:20251227T200000
DTSTAMP:20260420T035316
CREATED:20250918T072719Z
LAST-MODIFIED:20250918T072719Z
UID:10000162-1766836800-1766865600@staging.vibrantforest.co.uk
SUMMARY:Vibrant Forest Pizza
DESCRIPTION:Our Vibrant Forest pizza van is serving up freshly made\, stone-baked pizzas at the Vibrant Forest Taproom—available to eat in or take away!\nWhether you’re here for a pint of your favorite brew or grabbing beers to go\, our delicious pizzas are the perfect pairing.\nExpect fresh\, hand-stretched bases\, quality toppings\, and plenty of flavor—all made to order while you enjoy a drink.\nCome hungry\, leave happy! 🍕✨
URL:https://staging.vibrantforest.co.uk/event/vibrant-forest-pizza-32/
LOCATION:Vibrant Forest Taproom\, Units 3 to 6 The Purlieu Centre\, SO45 3AE
CATEGORIES:Street Food
ATTACH;FMTTYPE=image/jpeg:https://staging.vibrantforest.co.uk/wp-content/uploads/2025/03/Pizza.jpg
END:VEVENT
BEGIN:VEVENT
DTSTART;TZID=Europe/London:20251228T120000
DTEND;TZID=Europe/London:20251228T180000
DTSTAMP:20260420T035316
CREATED:20250918T072805Z
LAST-MODIFIED:20250918T072805Z
UID:10000163-1766923200-1766944800@staging.vibrantforest.co.uk
SUMMARY:Vibrant Forest Pizza
DESCRIPTION:Our Vibrant Forest pizza van is serving up freshly made\, stone-baked pizzas at the Vibrant Forest Taproom—available to eat in or take away!\nWhether you’re here for a pint of your favorite brew or grabbing beers to go\, our delicious pizzas are the perfect pairing.\nExpect fresh\, hand-stretched bases\, quality toppings\, and plenty of flavor—all made to order while you enjoy a drink.\nCome hungry\, leave happy! 🍕✨
URL:https://staging.vibrantforest.co.uk/event/vibrant-forest-pizza-33/
LOCATION:Vibrant Forest Taproom\, Units 3 to 6 The Purlieu Centre\, SO45 3AE
CATEGORIES:Street Food
ATTACH;FMTTYPE=image/jpeg:https://staging.vibrantforest.co.uk/wp-content/uploads/2025/03/Pizza.jpg
END:VEVENT
END:VCALENDAR