BEGIN:VCALENDAR
VERSION:2.0
PRODID:-//Vibrant Forest Brewery - ECPv6.15.17//NONSGML v1.0//EN
CALSCALE:GREGORIAN
METHOD:PUBLISH
X-WR-CALNAME:Vibrant Forest Brewery
X-ORIGINAL-URL:https://staging.vibrantforest.co.uk
X-WR-CALDESC:Events for Vibrant Forest Brewery
REFRESH-INTERVAL;VALUE=DURATION:PT1H
X-Robots-Tag:noindex
X-PUBLISHED-TTL:PT1H
BEGIN:VTIMEZONE
TZID:Europe/London
BEGIN:DAYLIGHT
TZOFFSETFROM:+0000
TZOFFSETTO:+0100
TZNAME:BST
DTSTART:20240331T010000
END:DAYLIGHT
BEGIN:STANDARD
TZOFFSETFROM:+0100
TZOFFSETTO:+0000
TZNAME:GMT
DTSTART:20241027T010000
END:STANDARD
BEGIN:DAYLIGHT
TZOFFSETFROM:+0000
TZOFFSETTO:+0100
TZNAME:BST
DTSTART:20250330T010000
END:DAYLIGHT
BEGIN:STANDARD
TZOFFSETFROM:+0100
TZOFFSETTO:+0000
TZNAME:GMT
DTSTART:20251026T010000
END:STANDARD
BEGIN:DAYLIGHT
TZOFFSETFROM:+0000
TZOFFSETTO:+0100
TZNAME:BST
DTSTART:20260329T010000
END:DAYLIGHT
BEGIN:STANDARD
TZOFFSETFROM:+0100
TZOFFSETTO:+0000
TZNAME:GMT
DTSTART:20261025T010000
END:STANDARD
END:VTIMEZONE
BEGIN:VEVENT
DTSTART;TZID=Europe/London:20251002T160000
DTEND;TZID=Europe/London:20251002T200000
DTSTAMP:20260420T064650
CREATED:20250914T081500Z
LAST-MODIFIED:20250914T081500Z
UID:10000115-1759420800-1759435200@staging.vibrantforest.co.uk
SUMMARY:Vibrant Forest Pizza
DESCRIPTION:Our Vibrant Forest pizza van is serving up freshly made\, stone-baked pizzas at the Vibrant Forest Taproom—available to eat in or take away!\nWhether you’re here for a pint of your favorite brew or grabbing beers to go\, our delicious pizzas are the perfect pairing.\nExpect fresh\, hand-stretched bases\, quality toppings\, and plenty of flavor—all made to order while you enjoy a drink.\nCome hungry\, leave happy! 🍕✨
URL:https://staging.vibrantforest.co.uk/event/vibrant-forest-pizza-22/
LOCATION:Vibrant Forest Taproom\, Units 3 to 6 The Purlieu Centre\, SO45 3AE
CATEGORIES:Street Food
ATTACH;FMTTYPE=image/jpeg:https://staging.vibrantforest.co.uk/wp-content/uploads/2025/03/Pizza.jpg
END:VEVENT
BEGIN:VEVENT
DTSTART;TZID=Europe/London:20251003T160000
DTEND;TZID=Europe/London:20251003T200000
DTSTAMP:20260420T064650
CREATED:20250914T081830Z
LAST-MODIFIED:20250914T081830Z
UID:10000116-1759507200-1759521600@staging.vibrantforest.co.uk
SUMMARY:Vibrant Loaded Fries
DESCRIPTION:The ultimate after-work treat and the perfect partner to a cold pint. Crispy golden fries piled high with bold toppings\, big flavours\, and a little bit of messy fun.\nGrab a beer\, dig in\, and savour every bite.
URL:https://staging.vibrantforest.co.uk/event/vibrant-loaded-fries/
LOCATION:Vibrant Forest Taproom\, Units 3 to 6 The Purlieu Centre\, SO45 3AE
CATEGORIES:Street Food
ATTACH;FMTTYPE=image/jpeg:https://staging.vibrantforest.co.uk/wp-content/uploads/2025/09/fries.jpg
END:VEVENT
BEGIN:VEVENT
DTSTART;TZID=Europe/London:20251004T120000
DTEND;TZID=Europe/London:20251004T180000
DTSTAMP:20260420T064650
CREATED:20250914T081918Z
LAST-MODIFIED:20250914T081918Z
UID:10000117-1759579200-1759600800@staging.vibrantforest.co.uk
SUMMARY:Grate Fire Kitchen
DESCRIPTION:Experience the wonders of big open-fire cooking as Grate Fire Kitchen takes over our yard with their incredible fire pit setup. With a mission to use only the best quality meats and locally sourced vegetables\, these guys will blow you away with bold flavors and expertly cooked dishes. \nEnjoy the sights\, sounds\, and smells of live fire cooking\, with top-quality meats and fresh local produce cooked to perfection. Pair it all with your favorite Vibrant Forest beer for an unforgettable feast. Don’t miss out and get ready for a truly unique experience!
URL:https://staging.vibrantforest.co.uk/event/grate-fire-kitchen-2/
LOCATION:Vibrant Forest Taproom\, Units 3 to 6 The Purlieu Centre\, SO45 3AE
CATEGORIES:Street Food
ATTACH;FMTTYPE=image/jpeg:https://staging.vibrantforest.co.uk/wp-content/uploads/2025/03/grate.jpg
END:VEVENT
BEGIN:VEVENT
DTSTART;TZID=Europe/London:20251009T160000
DTEND;TZID=Europe/London:20251009T200000
DTSTAMP:20260420T064650
CREATED:20250914T081952Z
LAST-MODIFIED:20250914T081952Z
UID:10000118-1760025600-1760040000@staging.vibrantforest.co.uk
SUMMARY:Vibrant Forest Pizza
DESCRIPTION:Our Vibrant Forest pizza van is serving up freshly made\, stone-baked pizzas at the Vibrant Forest Taproom—available to eat in or take away!\nWhether you’re here for a pint of your favorite brew or grabbing beers to go\, our delicious pizzas are the perfect pairing.\nExpect fresh\, hand-stretched bases\, quality toppings\, and plenty of flavor—all made to order while you enjoy a drink.\nCome hungry\, leave happy! 🍕✨
URL:https://staging.vibrantforest.co.uk/event/vibrant-forest-pizza-23/
LOCATION:Vibrant Forest Taproom\, Units 3 to 6 The Purlieu Centre\, SO45 3AE
CATEGORIES:Street Food
ATTACH;FMTTYPE=image/jpeg:https://staging.vibrantforest.co.uk/wp-content/uploads/2025/03/Pizza.jpg
END:VEVENT
BEGIN:VEVENT
DTSTART;TZID=Europe/London:20251010T160000
DTEND;TZID=Europe/London:20251010T200000
DTSTAMP:20260420T064650
CREATED:20250914T082032Z
LAST-MODIFIED:20250914T082032Z
UID:10000119-1760112000-1760126400@staging.vibrantforest.co.uk
SUMMARY:Three Cuts Bugers
DESCRIPTION:The legends are back with their mouth-watering smash burgers\, crispy chicken tenders\, and loaded fries that everyone loves!\nKnown for their commitment to quality\, These guys have earned their place as one of the most sought-after food trucks on the South Coast.
URL:https://staging.vibrantforest.co.uk/event/three-cuts-bugers-2/
LOCATION:Vibrant Forest Taproom\, Units 3 to 6 The Purlieu Centre\, SO45 3AE
CATEGORIES:Street Food
ATTACH;FMTTYPE=image/jpeg:https://staging.vibrantforest.co.uk/wp-content/uploads/2025/03/three_cuts.jpg
END:VEVENT
BEGIN:VEVENT
DTSTART;TZID=Europe/London:20251011T120000
DTEND;TZID=Europe/London:20251011T180000
DTSTAMP:20260420T064650
CREATED:20250914T082111Z
LAST-MODIFIED:20250914T082111Z
UID:10000120-1760184000-1760205600@staging.vibrantforest.co.uk
SUMMARY:Tipsy Toastie
DESCRIPTION:The Art of a Toastie \nSimple\, yes – but when done right\, it’s nothing short of mind-blowing\, especially alongside a fresh pint. \nJoin the Tipsy Toastie crew as they serve up elite-level toasties\, smothered in their signature glazes made using Vibrant Forest beer. Pure comfort food\, dialled up to eleven.
URL:https://staging.vibrantforest.co.uk/event/tipsy-toastie-5/
LOCATION:Vibrant Forest Taproom\, Units 3 to 6 The Purlieu Centre\, SO45 3AE
CATEGORIES:Street Food
ATTACH;FMTTYPE=image/jpeg:https://staging.vibrantforest.co.uk/wp-content/uploads/2025/05/tipsy.jpg
END:VEVENT
BEGIN:VEVENT
DTSTART;TZID=Europe/London:20251016T160000
DTEND;TZID=Europe/London:20251016T200000
DTSTAMP:20260420T064650
CREATED:20250914T082148Z
LAST-MODIFIED:20250914T082148Z
UID:10000121-1760630400-1760644800@staging.vibrantforest.co.uk
SUMMARY:Vibrant Forest Pizza
DESCRIPTION:Our Vibrant Forest pizza van is serving up freshly made\, stone-baked pizzas at the Vibrant Forest Taproom—available to eat in or take away!\nWhether you’re here for a pint of your favorite brew or grabbing beers to go\, our delicious pizzas are the perfect pairing.\nExpect fresh\, hand-stretched bases\, quality toppings\, and plenty of flavor—all made to order while you enjoy a drink.\nCome hungry\, leave happy! 🍕✨
URL:https://staging.vibrantforest.co.uk/event/vibrant-forest-pizza-24/
LOCATION:Vibrant Forest Taproom\, Units 3 to 6 The Purlieu Centre\, SO45 3AE
CATEGORIES:Street Food
ATTACH;FMTTYPE=image/jpeg:https://staging.vibrantforest.co.uk/wp-content/uploads/2025/03/Pizza.jpg
END:VEVENT
BEGIN:VEVENT
DTSTART;TZID=Europe/London:20251016T160000
DTEND;TZID=Europe/London:20251016T200000
DTSTAMP:20260420T064650
CREATED:20250925T103018Z
LAST-MODIFIED:20250925T103018Z
UID:10000165-1760630400-1760644800@staging.vibrantforest.co.uk
SUMMARY:Vibrant Forest Pizza
DESCRIPTION:Our Vibrant Forest pizza van is serving up freshly made\, stone-baked pizzas at the Vibrant Forest Taproom—available to eat in or take away!\nWhether you’re here for a pint of your favorite brew or grabbing beers to go\, our delicious pizzas are the perfect pairing.\nExpect fresh\, hand-stretched bases\, quality toppings\, and plenty of flavor—all made to order while you enjoy a drink.\nCome hungry\, leave happy! 🍕✨
URL:https://staging.vibrantforest.co.uk/event/vibrant-forest-pizza-34/
LOCATION:Vibrant Forest Taproom\, Units 3 to 6 The Purlieu Centre\, SO45 3AE
CATEGORIES:Street Food
ATTACH;FMTTYPE=image/jpeg:https://staging.vibrantforest.co.uk/wp-content/uploads/2025/03/Pizza.jpg
END:VEVENT
BEGIN:VEVENT
DTSTART;TZID=Europe/London:20251018T120000
DTEND;TZID=Europe/London:20251018T200000
DTSTAMP:20260420T064650
CREATED:20250914T082233Z
LAST-MODIFIED:20250914T082233Z
UID:10000122-1760788800-1760817600@staging.vibrantforest.co.uk
SUMMARY:Commanche BBQ
DESCRIPTION:American-Style BBQ Right Here in the New Forest\nGet ready for a true taste of America with slow-cooked BBQ\, smoked to perfection on their purpose-built smoker. This classic American BBQ food truck has been serving some of the best BBQ on the South Coast for the last 12 months. Think melt-in-your-mouth brisket\, marinated chicken wings\, homemade spicy sausages\, and\, of course\, all the amazing sides that make this a meal to remember. If you’re a fan of bold flavors and perfectly smoked meats\, this is one not to be missed!
URL:https://staging.vibrantforest.co.uk/event/commanche-bbq-4/
LOCATION:Vibrant Forest Taproom\, Units 3 to 6 The Purlieu Centre\, SO45 3AE
CATEGORIES:Street Food
ATTACH;FMTTYPE=image/jpeg:https://staging.vibrantforest.co.uk/wp-content/uploads/2025/03/Comanchie.jpeg
END:VEVENT
BEGIN:VEVENT
DTSTART;TZID=Europe/London:20251019T120000
DTEND;TZID=Europe/London:20251019T180000
DTSTAMP:20260420T064650
CREATED:20250914T083600Z
LAST-MODIFIED:20250914T083600Z
UID:10000124-1760875200-1760896800@staging.vibrantforest.co.uk
SUMMARY:Vibrant Loaded Fries
DESCRIPTION:The ultimate after-work treat and the perfect partner to a cold pint. Crispy golden fries piled high with bold toppings\, big flavours\, and a little bit of messy fun.\nGrab a beer\, dig in\, and savour every bite.
URL:https://staging.vibrantforest.co.uk/event/vibrant-loaded-fries-2/
LOCATION:Vibrant Forest Taproom\, Units 3 to 6 The Purlieu Centre\, SO45 3AE
CATEGORIES:Street Food
ATTACH;FMTTYPE=image/jpeg:https://staging.vibrantforest.co.uk/wp-content/uploads/2025/09/fries.jpg
END:VEVENT
BEGIN:VEVENT
DTSTART;TZID=Europe/London:20251023T160000
DTEND;TZID=Europe/London:20251023T200000
DTSTAMP:20260420T064650
CREATED:20250925T105928Z
LAST-MODIFIED:20251028T143554Z
UID:10000167-1761235200-1761249600@staging.vibrantforest.co.uk
SUMMARY:Three Cuts Burgers
DESCRIPTION:The legends are back with their mouth-watering smash burgers\, crispy chicken tenders\, and loaded fries that everyone loves!\nKnown for their commitment to quality\, These guys have earned their place as one of the most sought-after food trucks on the South Coast.
URL:https://staging.vibrantforest.co.uk/event/three-cuts-bugers-8/
LOCATION:Vibrant Forest Taproom\, Units 3 to 6 The Purlieu Centre\, SO45 3AE
CATEGORIES:Street Food
ATTACH;FMTTYPE=image/jpeg:https://staging.vibrantforest.co.uk/wp-content/uploads/2025/03/three_cuts.jpg
END:VEVENT
BEGIN:VEVENT
DTSTART;TZID=Europe/London:20251024T160000
DTEND;TZID=Europe/London:20251024T200000
DTSTAMP:20260420T064650
CREATED:20250914T083639Z
LAST-MODIFIED:20250914T083639Z
UID:10000125-1761321600-1761336000@staging.vibrantforest.co.uk
SUMMARY:Vibrant Loaded Fries
DESCRIPTION:The ultimate after-work treat and the perfect partner to a cold pint. Crispy golden fries piled high with bold toppings\, big flavours\, and a little bit of messy fun.\nGrab a beer\, dig in\, and savour every bite.
URL:https://staging.vibrantforest.co.uk/event/vibrant-loaded-fries-3/
LOCATION:Vibrant Forest Taproom\, Units 3 to 6 The Purlieu Centre\, SO45 3AE
CATEGORIES:Street Food
ATTACH;FMTTYPE=image/jpeg:https://staging.vibrantforest.co.uk/wp-content/uploads/2025/09/fries.jpg
END:VEVENT
BEGIN:VEVENT
DTSTART;TZID=Europe/London:20251030T160000
DTEND;TZID=Europe/London:20251030T200000
DTSTAMP:20260420T064650
CREATED:20250914T090534Z
LAST-MODIFIED:20250914T090534Z
UID:10000129-1761840000-1761854400@staging.vibrantforest.co.uk
SUMMARY:Vibrant Forest Pizza
DESCRIPTION:Our Vibrant Forest pizza van is serving up freshly made\, stone-baked pizzas at the Vibrant Forest Taproom—available to eat in or take away!\nWhether you’re here for a pint of your favorite brew or grabbing beers to go\, our delicious pizzas are the perfect pairing.\nExpect fresh\, hand-stretched bases\, quality toppings\, and plenty of flavor—all made to order while you enjoy a drink.\nCome hungry\, leave happy! 🍕✨
URL:https://staging.vibrantforest.co.uk/event/vibrant-forest-pizza-25/
LOCATION:Vibrant Forest Taproom\, Units 3 to 6 The Purlieu Centre\, SO45 3AE
CATEGORIES:Street Food
ATTACH;FMTTYPE=image/jpeg:https://staging.vibrantforest.co.uk/wp-content/uploads/2025/03/Pizza.jpg
END:VEVENT
BEGIN:VEVENT
DTSTART;TZID=Europe/London:20251031T160000
DTEND;TZID=Europe/London:20251031T200000
DTSTAMP:20260420T064650
CREATED:20250914T090619Z
LAST-MODIFIED:20250914T090619Z
UID:10000130-1761926400-1761940800@staging.vibrantforest.co.uk
SUMMARY:Vibrant Loaded Fries
DESCRIPTION:The ultimate after-work treat and the perfect partner to a cold pint. Crispy golden fries piled high with bold toppings\, big flavours\, and a little bit of messy fun.\nGrab a beer\, dig in\, and savour every bite.
URL:https://staging.vibrantforest.co.uk/event/vibrant-loaded-fries-4/
LOCATION:Vibrant Forest Taproom\, Units 3 to 6 The Purlieu Centre\, SO45 3AE
CATEGORIES:Street Food
ATTACH;FMTTYPE=image/jpeg:https://staging.vibrantforest.co.uk/wp-content/uploads/2025/09/fries.jpg
END:VEVENT
END:VCALENDAR