BEGIN:VCALENDAR
VERSION:2.0
PRODID:-//Vibrant Forest Brewery - ECPv6.15.17//NONSGML v1.0//EN
CALSCALE:GREGORIAN
METHOD:PUBLISH
X-WR-CALNAME:Vibrant Forest Brewery
X-ORIGINAL-URL:https://staging.vibrantforest.co.uk
X-WR-CALDESC:Events for Vibrant Forest Brewery
REFRESH-INTERVAL;VALUE=DURATION:PT1H
X-Robots-Tag:noindex
X-PUBLISHED-TTL:PT1H
BEGIN:VTIMEZONE
TZID:Europe/London
BEGIN:DAYLIGHT
TZOFFSETFROM:+0000
TZOFFSETTO:+0100
TZNAME:BST
DTSTART:20240331T010000
END:DAYLIGHT
BEGIN:STANDARD
TZOFFSETFROM:+0100
TZOFFSETTO:+0000
TZNAME:GMT
DTSTART:20241027T010000
END:STANDARD
BEGIN:DAYLIGHT
TZOFFSETFROM:+0000
TZOFFSETTO:+0100
TZNAME:BST
DTSTART:20250330T010000
END:DAYLIGHT
BEGIN:STANDARD
TZOFFSETFROM:+0100
TZOFFSETTO:+0000
TZNAME:GMT
DTSTART:20251026T010000
END:STANDARD
BEGIN:DAYLIGHT
TZOFFSETFROM:+0000
TZOFFSETTO:+0100
TZNAME:BST
DTSTART:20260329T010000
END:DAYLIGHT
BEGIN:STANDARD
TZOFFSETFROM:+0100
TZOFFSETTO:+0000
TZNAME:GMT
DTSTART:20261025T010000
END:STANDARD
END:VTIMEZONE
BEGIN:VEVENT
DTSTART;TZID=Europe/London:20250904T160000
DTEND;TZID=Europe/London:20250904T200000
DTSTAMP:20260420T082042
CREATED:20250821T073205Z
LAST-MODIFIED:20250821T073205Z
UID:10000099-1757001600-1757016000@staging.vibrantforest.co.uk
SUMMARY:Vibrant Forest Pizza
DESCRIPTION:Our Vibrant Forest pizza van is serving up freshly made\, stone-baked pizzas at the Vibrant Forest Taproom—available to eat in or take away!\nWhether you’re here for a pint of your favorite brew or grabbing beers to go\, our delicious pizzas are the perfect pairing.\nExpect fresh\, hand-stretched bases\, quality toppings\, and plenty of flavor—all made to order while you enjoy a drink.\nCome hungry\, leave happy! 🍕✨
URL:https://staging.vibrantforest.co.uk/event/vibrant-forest-pizza-16/
LOCATION:Vibrant Forest Taproom\, Units 3 to 6 The Purlieu Centre\, SO45 3AE
CATEGORIES:Street Food
ATTACH;FMTTYPE=image/jpeg:https://staging.vibrantforest.co.uk/wp-content/uploads/2025/03/Pizza.jpg
END:VEVENT
BEGIN:VEVENT
DTSTART;TZID=Europe/London:20250905T120000
DTEND;TZID=Europe/London:20250905T180000
DTSTAMP:20260420T082042
CREATED:20250826T110536Z
LAST-MODIFIED:20250826T110536Z
UID:10000109-1757073600-1757095200@staging.vibrantforest.co.uk
SUMMARY:Vibrant Forest Pizza
DESCRIPTION:Our Vibrant Forest pizza van is serving up freshly made\, stone-baked pizzas at the Vibrant Forest Taproom—available to eat in or take away!\nWhether you’re here for a pint of your favorite brew or grabbing beers to go\, our delicious pizzas are the perfect pairing.\nExpect fresh\, hand-stretched bases\, quality toppings\, and plenty of flavor—all made to order while you enjoy a drink.\nCome hungry\, leave happy! 🍕✨
URL:https://staging.vibrantforest.co.uk/event/vibrant-forest-pizza-19/
LOCATION:Vibrant Forest Taproom\, Units 3 to 6 The Purlieu Centre\, SO45 3AE
CATEGORIES:Street Food
ATTACH;FMTTYPE=image/jpeg:https://staging.vibrantforest.co.uk/wp-content/uploads/2025/03/Pizza.jpg
END:VEVENT
BEGIN:VEVENT
DTSTART;TZID=Europe/London:20250906T120000
DTEND;TZID=Europe/London:20250906T180000
DTSTAMP:20260420T082042
CREATED:20250826T110935Z
LAST-MODIFIED:20250826T110935Z
UID:10000110-1757160000-1757181600@staging.vibrantforest.co.uk
SUMMARY:The Gyro Guyz
DESCRIPTION:From Southampton\, we’re welcoming a brand-new vendor to our Taproom! Get ready for Greek cuisine with a unique twist—classic flavours reimagined with exciting new spins
URL:https://staging.vibrantforest.co.uk/event/the-gyro-guyz/
LOCATION:Vibrant Forest Taproom\, Units 3 to 6 The Purlieu Centre\, SO45 3AE
CATEGORIES:Street Food
ATTACH;FMTTYPE=image/jpeg:https://staging.vibrantforest.co.uk/wp-content/uploads/2025/08/Gyro.jpg
END:VEVENT
BEGIN:VEVENT
DTSTART;TZID=Europe/London:20250911T170000
DTEND;TZID=Europe/London:20250911T200000
DTSTAMP:20260420T082042
CREATED:20250910T143614Z
LAST-MODIFIED:20250910T143908Z
UID:10000112-1757610000-1757620800@staging.vibrantforest.co.uk
SUMMARY:Vibrant Forest Pizza
DESCRIPTION:Our Vibrant Forest pizza van is serving up freshly made\, stone-baked pizzas at the Vibrant Forest Taproom—available to eat in or take away!\nWhether you’re here for a pint of your favorite brew or grabbing beers to go\, our delicious pizzas are the perfect pairing.\nExpect fresh\, hand-stretched bases\, quality toppings\, and plenty of flavor—all made to order while you enjoy a drink.\nCome hungry\, leave happy! 🍕✨
URL:https://staging.vibrantforest.co.uk/event/vibrant-forest-pizza-20/
LOCATION:Vibrant Forest Taproom\, Units 3 to 6 The Purlieu Centre\, SO45 3AE
CATEGORIES:Street Food
ATTACH;FMTTYPE=image/jpeg:https://staging.vibrantforest.co.uk/wp-content/uploads/2025/03/Pizza.jpg
END:VEVENT
BEGIN:VEVENT
DTSTART;TZID=Europe/London:20250912T160000
DTEND;TZID=Europe/London:20250912T200000
DTSTAMP:20260420T082042
CREATED:20250821T073303Z
LAST-MODIFIED:20250821T073303Z
UID:10000100-1757692800-1757707200@staging.vibrantforest.co.uk
SUMMARY:Vibrant Forest Pizza
DESCRIPTION:Our Vibrant Forest pizza van is serving up freshly made\, stone-baked pizzas at the Vibrant Forest Taproom—available to eat in or take away!\nWhether you’re here for a pint of your favorite brew or grabbing beers to go\, our delicious pizzas are the perfect pairing.\nExpect fresh\, hand-stretched bases\, quality toppings\, and plenty of flavor—all made to order while you enjoy a drink.\nCome hungry\, leave happy! 🍕✨
URL:https://staging.vibrantforest.co.uk/event/vibrant-forest-pizza-17/
LOCATION:Vibrant Forest Taproom\, Units 3 to 6 The Purlieu Centre\, SO45 3AE
CATEGORIES:Street Food
ATTACH;FMTTYPE=image/jpeg:https://staging.vibrantforest.co.uk/wp-content/uploads/2025/03/Pizza.jpg
END:VEVENT
BEGIN:VEVENT
DTSTART;TZID=Europe/London:20250913T120000
DTEND;TZID=Europe/London:20250913T180000
DTSTAMP:20260420T082042
CREATED:20250821T073416Z
LAST-MODIFIED:20250821T073416Z
UID:10000102-1757764800-1757786400@staging.vibrantforest.co.uk
SUMMARY:Vibrant Forest Pizza
DESCRIPTION:Our Vibrant Forest pizza van is serving up freshly made\, stone-baked pizzas at the Vibrant Forest Taproom—available to eat in or take away!\nWhether you’re here for a pint of your favorite brew or grabbing beers to go\, our delicious pizzas are the perfect pairing.\nExpect fresh\, hand-stretched bases\, quality toppings\, and plenty of flavor—all made to order while you enjoy a drink.\nCome hungry\, leave happy! 🍕✨
URL:https://staging.vibrantforest.co.uk/event/vibrant-forest-pizza-18/
LOCATION:Vibrant Forest Taproom\, Units 3 to 6 The Purlieu Centre\, SO45 3AE
CATEGORIES:Street Food
ATTACH;FMTTYPE=image/jpeg:https://staging.vibrantforest.co.uk/wp-content/uploads/2025/03/Pizza.jpg
END:VEVENT
BEGIN:VEVENT
DTSTART;TZID=Europe/London:20250918T160000
DTEND;TZID=Europe/London:20250918T200000
DTSTAMP:20260420T082042
CREATED:20250821T073532Z
LAST-MODIFIED:20250821T073532Z
UID:10000103-1758211200-1758225600@staging.vibrantforest.co.uk
SUMMARY:Three Cuts Bugers
DESCRIPTION:The legends are back with their mouth-watering smash burgers\, crispy chicken tenders\, and loaded fries that everyone loves!\nKnown for their commitment to quality\, These guys have earned their place as one of the most sought-after food trucks on the South Coast.
URL:https://staging.vibrantforest.co.uk/event/three-cuts-bugers/
LOCATION:Vibrant Forest Taproom\, Units 3 to 6 The Purlieu Centre\, SO45 3AE
CATEGORIES:Street Food
ATTACH;FMTTYPE=image/jpeg:https://staging.vibrantforest.co.uk/wp-content/uploads/2025/03/three_cuts.jpg
END:VEVENT
BEGIN:VEVENT
DTSTART;TZID=Europe/London:20250925T160000
DTEND;TZID=Europe/London:20250925T200000
DTSTAMP:20260420T082042
CREATED:20250914T081342Z
LAST-MODIFIED:20250914T081342Z
UID:10000114-1758816000-1758830400@staging.vibrantforest.co.uk
SUMMARY:Vibrant Forest Pizza
DESCRIPTION:Our Vibrant Forest pizza van is serving up freshly made\, stone-baked pizzas at the Vibrant Forest Taproom—available to eat in or take away!\nWhether you’re here for a pint of your favorite brew or grabbing beers to go\, our delicious pizzas are the perfect pairing.\nExpect fresh\, hand-stretched bases\, quality toppings\, and plenty of flavor—all made to order while you enjoy a drink.\nCome hungry\, leave happy! 🍕✨
URL:https://staging.vibrantforest.co.uk/event/vibrant-forest-pizza-21/
LOCATION:Vibrant Forest Taproom\, Units 3 to 6 The Purlieu Centre\, SO45 3AE
CATEGORIES:Street Food
ATTACH;FMTTYPE=image/jpeg:https://staging.vibrantforest.co.uk/wp-content/uploads/2025/03/Pizza.jpg
END:VEVENT
BEGIN:VEVENT
DTSTART;TZID=Europe/London:20250926T120000
DTEND;TZID=Europe/London:20250926T180000
DTSTAMP:20260420T082042
CREATED:20250821T073807Z
LAST-MODIFIED:20250821T073807Z
UID:10000106-1758888000-1758909600@staging.vibrantforest.co.uk
SUMMARY:Tipsy Toastie
DESCRIPTION:The Art of a Toastie \nSimple\, yes – but when done right\, it’s nothing short of mind-blowing\, especially alongside a fresh pint. \nJoin the Tipsy Toastie crew as they serve up elite-level toasties\, smothered in their signature glazes made using Vibrant Forest beer. Pure comfort food\, dialled up to eleven.
URL:https://staging.vibrantforest.co.uk/event/tipsy-toastie-4/
LOCATION:Vibrant Forest Taproom\, Units 3 to 6 The Purlieu Centre\, SO45 3AE
CATEGORIES:Street Food
ATTACH;FMTTYPE=image/jpeg:https://staging.vibrantforest.co.uk/wp-content/uploads/2025/05/tipsy.jpg
END:VEVENT
BEGIN:VEVENT
DTSTART;TZID=Europe/London:20250927T120000
DTEND;TZID=Europe/London:20250927T200000
DTSTAMP:20260420T082042
CREATED:20250821T074331Z
LAST-MODIFIED:20250821T074331Z
UID:10000108-1758974400-1759003200@staging.vibrantforest.co.uk
SUMMARY:Commanche BBQ
DESCRIPTION:American-Style BBQ Right Here in the New Forest\nGet ready for a true taste of America with slow-cooked BBQ\, smoked to perfection on their purpose-built smoker. This classic American BBQ food truck has been serving some of the best BBQ on the South Coast for the last 12 months. Think melt-in-your-mouth brisket\, marinated chicken wings\, homemade spicy sausages\, and\, of course\, all the amazing sides that make this a meal to remember. If you’re a fan of bold flavors and perfectly smoked meats\, this is one not to be missed!
URL:https://staging.vibrantforest.co.uk/event/commanche-bbq-3/
LOCATION:Vibrant Forest Taproom\, Units 3 to 6 The Purlieu Centre\, SO45 3AE
CATEGORIES:Street Food
ATTACH;FMTTYPE=image/jpeg:https://staging.vibrantforest.co.uk/wp-content/uploads/2025/03/Comanchie.jpeg
END:VEVENT
END:VCALENDAR