BEGIN:VCALENDAR
VERSION:2.0
PRODID:-//Vibrant Forest Brewery - ECPv6.15.17//NONSGML v1.0//EN
CALSCALE:GREGORIAN
METHOD:PUBLISH
X-ORIGINAL-URL:https://staging.vibrantforest.co.uk
X-WR-CALDESC:Events for Vibrant Forest Brewery
REFRESH-INTERVAL;VALUE=DURATION:PT1H
X-Robots-Tag:noindex
X-PUBLISHED-TTL:PT1H
BEGIN:VTIMEZONE
TZID:Europe/London
BEGIN:DAYLIGHT
TZOFFSETFROM:+0000
TZOFFSETTO:+0100
TZNAME:BST
DTSTART:20240331T010000
END:DAYLIGHT
BEGIN:STANDARD
TZOFFSETFROM:+0100
TZOFFSETTO:+0000
TZNAME:GMT
DTSTART:20241027T010000
END:STANDARD
BEGIN:DAYLIGHT
TZOFFSETFROM:+0000
TZOFFSETTO:+0100
TZNAME:BST
DTSTART:20250330T010000
END:DAYLIGHT
BEGIN:STANDARD
TZOFFSETFROM:+0100
TZOFFSETTO:+0000
TZNAME:GMT
DTSTART:20251026T010000
END:STANDARD
BEGIN:DAYLIGHT
TZOFFSETFROM:+0000
TZOFFSETTO:+0100
TZNAME:BST
DTSTART:20260329T010000
END:DAYLIGHT
BEGIN:STANDARD
TZOFFSETFROM:+0100
TZOFFSETTO:+0000
TZNAME:GMT
DTSTART:20261025T010000
END:STANDARD
END:VTIMEZONE
BEGIN:VEVENT
DTSTART;TZID=Europe/London:20251218T190000
DTEND;TZID=Europe/London:20251218T210000
DTSTAMP:20260420T120200
CREATED:20250916T070849Z
LAST-MODIFIED:20250916T070849Z
UID:10000149-1766084400-1766091600@staging.vibrantforest.co.uk
SUMMARY:The Big Xmas Quiz
DESCRIPTION:Our biggest quiz of the year returns\, and this one promises to be the best yet. Expect festive rounds\, a look back at 2025\, and (of course) the legendary participation round. \nBut the real question is… is Die Hard a Christmas film? 🎬🎅\nBook your table now and get ready for a night of fun\, debate\, and festive cheer!
URL:https://staging.vibrantforest.co.uk/event/the-big-xmas-quiz/
LOCATION:Vibrant Forest Taproom\, Units 3 to 6 The Purlieu Centre\, SO45 3AE
CATEGORIES:Quiz
ATTACH;FMTTYPE=image/png:https://staging.vibrantforest.co.uk/wp-content/uploads/2025/09/xmas-quiz-2025-.png
END:VEVENT
END:VCALENDAR