BEGIN:VCALENDAR
VERSION:2.0
PRODID:-//Vibrant Forest Brewery - ECPv6.15.17//NONSGML v1.0//EN
CALSCALE:GREGORIAN
METHOD:PUBLISH
X-WR-CALNAME:Vibrant Forest Brewery
X-ORIGINAL-URL:https://staging.vibrantforest.co.uk
X-WR-CALDESC:Events for Vibrant Forest Brewery
REFRESH-INTERVAL;VALUE=DURATION:PT1H
X-Robots-Tag:noindex
X-PUBLISHED-TTL:PT1H
BEGIN:VTIMEZONE
TZID:Europe/London
BEGIN:DAYLIGHT
TZOFFSETFROM:+0000
TZOFFSETTO:+0100
TZNAME:BST
DTSTART:20250330T010000
END:DAYLIGHT
BEGIN:STANDARD
TZOFFSETFROM:+0100
TZOFFSETTO:+0000
TZNAME:GMT
DTSTART:20251026T010000
END:STANDARD
BEGIN:DAYLIGHT
TZOFFSETFROM:+0000
TZOFFSETTO:+0100
TZNAME:BST
DTSTART:20260329T010000
END:DAYLIGHT
BEGIN:STANDARD
TZOFFSETFROM:+0100
TZOFFSETTO:+0000
TZNAME:GMT
DTSTART:20261025T010000
END:STANDARD
BEGIN:DAYLIGHT
TZOFFSETFROM:+0000
TZOFFSETTO:+0100
TZNAME:BST
DTSTART:20270328T010000
END:DAYLIGHT
BEGIN:STANDARD
TZOFFSETFROM:+0100
TZOFFSETTO:+0000
TZNAME:GMT
DTSTART:20271031T010000
END:STANDARD
END:VTIMEZONE
BEGIN:VEVENT
DTSTART;TZID=Europe/London:20260227T180000
DTEND;TZID=Europe/London:20260227T230000
DTSTAMP:20260420T063900
CREATED:20260117T132042Z
LAST-MODIFIED:20260117T132042Z
UID:10000202-1772215200-1772233200@staging.vibrantforest.co.uk
SUMMARY:Country Night
DESCRIPTION:🌵 COUNTRY NIGHT AT VIBRANT FOREST TAPROOM\nFriday 27 February | From 6pm | FREE ENTRY \nBoots on. Beers flowing. 🤠🍺We’re turning the taproom western for one big Country Night — and you’re invited. \nExpect live country music from Charlie Woodford\, a taproom full of great beer\, and a proper laid-back party atmosphere that’ll carry on ’til late. Whether you’re here to dance\, sing along\, or just enjoy a pint with friends\, this one’s all about good times. \nTo make the night even better\, we’ll be pouring Sierra Nevada beer on tap alongside your favourite Vibrant Forest beers — a perfect match for live music and western vibes. Of course\, we will have our usual selection of cider\, wine\, spirits and soft drinks. \nOur own Vibrant Pizza will be served all evening too \n🎸 Live music🍺 Sierra Nevada on tap💃 Dancing encouraged🤠 Fancy dress welcome🎟️ Free entry – just turn up \nGrab your mates\, dust off the cowboy boots (optional but encouraged)\, and join us for a Friday night that’s guaranteed to be a little bit louder\, livelier\, and more yeehaw than usual.
URL:https://staging.vibrantforest.co.uk/event/country-night/
LOCATION:Vibrant Forest Taproom\, Units 3 to 6 The Purlieu Centre\, SO45 3AE
CATEGORIES:Country Night
ATTACH;FMTTYPE=image/jpeg:https://staging.vibrantforest.co.uk/wp-content/uploads/2026/01/Beige-and-Brown-Retro-Western-Rodeo-Night-Instagram-Post-Instagram-Post-45-2.jpg
END:VEVENT
END:VCALENDAR