BEGIN:VCALENDAR
VERSION:2.0
PRODID:-//Vibrant Forest Brewery - ECPv6.15.17//NONSGML v1.0//EN
CALSCALE:GREGORIAN
METHOD:PUBLISH
X-WR-CALNAME:Vibrant Forest Brewery
X-ORIGINAL-URL:https://staging.vibrantforest.co.uk
X-WR-CALDESC:Events for Vibrant Forest Brewery
REFRESH-INTERVAL;VALUE=DURATION:PT1H
X-Robots-Tag:noindex
X-PUBLISHED-TTL:PT1H
BEGIN:VTIMEZONE
TZID:Europe/London
BEGIN:DAYLIGHT
TZOFFSETFROM:+0000
TZOFFSETTO:+0100
TZNAME:BST
DTSTART:20240331T010000
END:DAYLIGHT
BEGIN:STANDARD
TZOFFSETFROM:+0100
TZOFFSETTO:+0000
TZNAME:GMT
DTSTART:20241027T010000
END:STANDARD
BEGIN:DAYLIGHT
TZOFFSETFROM:+0000
TZOFFSETTO:+0100
TZNAME:BST
DTSTART:20250330T010000
END:DAYLIGHT
BEGIN:STANDARD
TZOFFSETFROM:+0100
TZOFFSETTO:+0000
TZNAME:GMT
DTSTART:20251026T010000
END:STANDARD
BEGIN:DAYLIGHT
TZOFFSETFROM:+0000
TZOFFSETTO:+0100
TZNAME:BST
DTSTART:20260329T010000
END:DAYLIGHT
BEGIN:STANDARD
TZOFFSETFROM:+0100
TZOFFSETTO:+0000
TZNAME:GMT
DTSTART:20261025T010000
END:STANDARD
BEGIN:DAYLIGHT
TZOFFSETFROM:+0000
TZOFFSETTO:+0100
TZNAME:BST
DTSTART:20270328T010000
END:DAYLIGHT
BEGIN:STANDARD
TZOFFSETFROM:+0100
TZOFFSETTO:+0000
TZNAME:GMT
DTSTART:20271031T010000
END:STANDARD
END:VTIMEZONE
BEGIN:VEVENT
DTSTART;TZID=Europe/London:20260320T190000
DTEND;TZID=Europe/London:20260320T220000
DTSTAMP:20260420T021708
CREATED:20260213T102852Z
LAST-MODIFIED:20260213T102919Z
UID:10000223-1774033200-1774044000@staging.vibrantforest.co.uk
SUMMARY:Vibrant Music Bingo
DESCRIPTION:The BINGO BROS are back and are taking over our events floor for another legendary night.\nExpect even more nostalgic bangers\, more dancing\, and bigger prizes than ever before! 🕺💃 \nThis is going to be an unforgettable party you won’t want to miss — but be quick… tickets will sell out fast! \nTHIS EVENT IS STRICTLY AN ADULT EVENT (AGED 18+) \nNo tickets refunds will be issued 7 days or less before the event \n  \n 
URL:https://staging.vibrantforest.co.uk/event/vibrant-music-bingo-3/
LOCATION:Vibrant Forest Taproom\, Units 3 to 6 The Purlieu Centre\, SO45 3AE
CATEGORIES:Bingo
ATTACH;FMTTYPE=image/jpeg:https://staging.vibrantforest.co.uk/wp-content/uploads/2026/02/Photo-09-02-2026-18-00-36-2.jpg
END:VEVENT
BEGIN:VEVENT
DTSTART;TZID=Europe/London:20260213T190000
DTEND;TZID=Europe/London:20260213T220000
DTSTAMP:20260420T021708
CREATED:20260116T095458Z
LAST-MODIFIED:20260116T095458Z
UID:10000201-1771009200-1771020000@staging.vibrantforest.co.uk
SUMMARY:Vibrant Music Bingo
DESCRIPTION:The BINGO BROS are back and are taking over our events floor for another legendary night.\nExpect even more nostalgic bangers\, more dancing\, and bigger prizes than ever before! 🕺💃 \nThis is going to be an unforgettable party you won’t want to miss — but be quick… tickets will sell out fast! \nTHIS EVENT IS STRICTLY AN ADULT EVENT (AGED 18+) \nNo tickets refunds will be issued 7 days or less before the event \n  \n 
URL:https://staging.vibrantforest.co.uk/event/vibrant-music-bingo-2/
LOCATION:Vibrant Forest Taproom\, Units 3 to 6 The Purlieu Centre\, SO45 3AE
CATEGORIES:Bingo
ATTACH;FMTTYPE=image/jpeg:https://staging.vibrantforest.co.uk/wp-content/uploads/2026/01/music_bingo.jpg
END:VEVENT
BEGIN:VEVENT
DTSTART;TZID=Europe/London:20251227T190000
DTEND;TZID=Europe/London:20251227T220000
DTSTAMP:20260420T021708
CREATED:20251112T085901Z
LAST-MODIFIED:20251112T141950Z
UID:10000174-1766862000-1766872800@staging.vibrantforest.co.uk
SUMMARY:Crimbo Limbo Music Bingo
DESCRIPTION:THE BINGO BROS ARE BACK DUE TO THE XMAS ONE SELLING OUT SO QUICKLY!\nExpect even more nostalgic bangers\, more dancing\, and bigger prizes than ever before! 🕺💃 \nThis is going to be an unforgettable party you won’t want to miss — but be quick… tickets will sell out fast! \nTHIS EVENT IS STRICTLY AN ADULT EVENT (AGED 18+) \nNo tickets refunds will be issued 7 days or less before the event \n  \n 
URL:https://staging.vibrantforest.co.uk/event/crimbo-bingo2025/
LOCATION:Vibrant Forest Taproom\, Units 3 to 6 The Purlieu Centre\, SO45 3AE
CATEGORIES:Bingo
ATTACH;FMTTYPE=image/jpeg:https://staging.vibrantforest.co.uk/wp-content/uploads/2025/11/bingo.jpg
END:VEVENT
BEGIN:VEVENT
DTSTART;TZID=Europe/London:20251212T190000
DTEND;TZID=Europe/London:20251212T220000
DTSTAMP:20260420T021708
CREATED:20251015T081040Z
LAST-MODIFIED:20251112T141810Z
UID:10000169-1765566000-1765576800@staging.vibrantforest.co.uk
SUMMARY:Vibrant Music Bingo
DESCRIPTION:THE BINGO BROS ARE BACK – As the weather turns\, the Bingo Bros are moving indoors and taking over the mezzanine floor for another legendary night.\nExpect even more nostalgic bangers\, more dancing\, and bigger prizes than ever before! 🕺💃 \nThis is going to be an unforgettable party you won’t want to miss — but be quick… tickets will sell out fast! \nTHIS EVENT IS STRICTLY AN ADULT EVENT (AGED 18+) \nNo tickets refunds will be issued 7 days or less before the event \n  \n 
URL:https://staging.vibrantforest.co.uk/event/crimbo-bingo/
LOCATION:Vibrant Forest Taproom\, Units 3 to 6 The Purlieu Centre\, SO45 3AE
CATEGORIES:Bingo
ATTACH;FMTTYPE=image/jpeg:https://staging.vibrantforest.co.uk/wp-content/uploads/2025/10/IMG-20251015-WA0000.jpg
END:VEVENT
BEGIN:VEVENT
DTSTART;TZID=Europe/London:20251101T190000
DTEND;TZID=Europe/London:20251101T220000
DTSTAMP:20260420T021708
CREATED:20250915T091427Z
LAST-MODIFIED:20250915T132641Z
UID:10000133-1762023600-1762034400@staging.vibrantforest.co.uk
SUMMARY:Vibrant Music Bingo
DESCRIPTION:THE BINGO BROS ARE BACK – As the weather turns\, the Bingo Bros are moving indoors and taking over the mezzanine floor for another legendary night.\nExpect even more nostalgic bangers\, more dancing\, and bigger prizes than ever before! 🕺💃 \nThis is going to be an unforgettable party you won’t want to miss — but be quick… tickets will sell out fast! \nTHIS EVENT IS STRICTLY AN ADULT EVENT (AGED 18+) \nNo tickets refunds will be issued 7 days or less before the event \n  \n 
URL:https://staging.vibrantforest.co.uk/event/vibrant-music-bingo/
LOCATION:Vibrant Forest Taproom\, Units 3 to 6 The Purlieu Centre\, SO45 3AE
CATEGORIES:Bingo
ATTACH;FMTTYPE=image/jpeg:https://staging.vibrantforest.co.uk/wp-content/uploads/2025/06/Music-Bingo-1.jpg
END:VEVENT
BEGIN:VEVENT
DTSTART;TZID=Europe/London:20250808T190000
DTEND;TZID=Europe/London:20250808T220000
DTSTAMP:20260420T021708
CREATED:20250625T061740Z
LAST-MODIFIED:20250625T101315Z
UID:10000073-1754679600-1754690400@staging.vibrantforest.co.uk
SUMMARY:Vibrant Music Bingo - In Our Yard (August 8)!
DESCRIPTION:🎉 BINGO BROS RETURN – FRIDAY 8TH AUGUST 🎉 Doors 6PM – Show Starts 7PM \nOutdoor bingo is back — bigger\, bolder\, and louder than ever! \nThe lads will be bringing their signature music bingo games\, playing all the biggest anthems of all time. Expect huge cash prizes and plenty of bonus giveaways throughout the night\, all set to a non-stop party atmosphere. \nThe last one sold out\, so gather your crew and don’t miss the most fun night on the Waterside! \nTHIS EVENT IS STRICTLY AN ADULT EVENT (AGED 18+) \nNo tickets refunds will be issued from 2 August onwards \n  \n 
URL:https://staging.vibrantforest.co.uk/event/vibrant-music-bingo-in-our-yard-2/
LOCATION:Vibrant Forest Taproom\, Units 3 to 6 The Purlieu Centre\, SO45 3AE
CATEGORIES:Bingo
ATTACH;FMTTYPE=image/jpeg:https://staging.vibrantforest.co.uk/wp-content/uploads/2025/06/Music-Bingo-1.jpg
END:VEVENT
END:VCALENDAR